BEGIN:VCALENDAR
VERSION:2.0
PRODID:-//Circolo vela Toscana - ECPv6.15.20//NONSGML v1.0//EN
CALSCALE:GREGORIAN
METHOD:PUBLISH
X-ORIGINAL-URL:https://circolovelatoscana.it
X-WR-CALDESC:Eventi per Circolo vela Toscana
REFRESH-INTERVAL;VALUE=DURATION:PT1H
X-Robots-Tag:noindex
X-PUBLISHED-TTL:PT1H
BEGIN:VTIMEZONE
TZID:UTC
BEGIN:STANDARD
TZOFFSETFROM:+0000
TZOFFSETTO:+0000
TZNAME:UTC
DTSTART:20230101T000000
END:STANDARD
END:VTIMEZONE
BEGIN:VEVENT
DTSTART;VALUE=DATE:20240907
DTEND;VALUE=DATE:20240908
DTSTAMP:20260424T060326
CREATED:20240308T094847Z
LAST-MODIFIED:20240308T094847Z
UID:1441-1725667200-1725753599@circolovelatoscana.it
SUMMARY:Corso di Navigazione
DESCRIPTION:corso di navigazione\, 7 e 8 settembre
URL:https://circolovelatoscana.it/evento/corso-di-navigazione-5/
CATEGORIES:Corsi di Navigazione 2024
END:VEVENT
BEGIN:VEVENT
DTSTART;VALUE=DATE:20240720
DTEND;VALUE=DATE:20240721
DTSTAMP:20260424T060326
CREATED:20240308T094412Z
LAST-MODIFIED:20240308T094412Z
UID:1439-1721433600-1721519999@circolovelatoscana.it
SUMMARY:Corso di Navigazione
DESCRIPTION:corso di navigazione\, 20 e 21 luglio
URL:https://circolovelatoscana.it/evento/corso-di-navigazione-4/
CATEGORIES:Corsi di Navigazione 2024
END:VEVENT
BEGIN:VEVENT
DTSTART;TZID=UTC:20240622T080000
DTEND;TZID=UTC:20240622T170000
DTSTAMP:20260424T060326
CREATED:20240308T094235Z
LAST-MODIFIED:20240308T094235Z
UID:1437-1719043200-1719075600@circolovelatoscana.it
SUMMARY:Corso di Navigazione
DESCRIPTION:corso di navigazione\, 22 e 23 giugno
URL:https://circolovelatoscana.it/evento/corso-di-navigazione-3/
CATEGORIES:Corsi di Navigazione 2024
END:VEVENT
BEGIN:VEVENT
DTSTART;TZID=UTC:20240530T000000
DTEND;TZID=UTC:20240530T000000
DTSTAMP:20260424T060326
CREATED:20240308T093819Z
LAST-MODIFIED:20240308T094051Z
UID:1435-1717027200-1717027200@circolovelatoscana.it
SUMMARY:Corso di Navigazione
DESCRIPTION:Corso di navigazione 151 Miglia\, dal 30 maggio al 1 giugno
URL:https://circolovelatoscana.it/evento/corso-di-navigazione-2/
CATEGORIES:Corsi di Navigazione 2024
END:VEVENT
BEGIN:VEVENT
DTSTART;TZID=UTC:20240518T000000
DTEND;TZID=UTC:20240519T000000
DTSTAMP:20260424T060326
CREATED:20240227T214739Z
LAST-MODIFIED:20240227T214739Z
UID:1348-1715990400-1716076800@circolovelatoscana.it
SUMMARY:Corso navigazione
DESCRIPTION:
URL:https://circolovelatoscana.it/evento/corso-navigazione-2/
CATEGORIES:Corsi di Navigazione 2024
END:VEVENT
BEGIN:VEVENT
DTSTART;VALUE=DATE:20240420
DTEND;VALUE=DATE:20240422
DTSTAMP:20260424T060326
CREATED:20240219T183325Z
LAST-MODIFIED:20240219T185935Z
UID:1283-1713571200-1713743999@circolovelatoscana.it
SUMMARY:Corso Navigazione
DESCRIPTION:
URL:https://circolovelatoscana.it/evento/corso-navigazione/
CATEGORIES:Corsi di Navigazione 2024
END:VEVENT
BEGIN:VEVENT
DTSTART;VALUE=DATE:20240406
DTEND;VALUE=DATE:20240408
DTSTAMP:20260424T060326
CREATED:20240219T182827Z
LAST-MODIFIED:20240219T190023Z
UID:1279-1712361600-1712534399@circolovelatoscana.it
SUMMARY:Corso di Navigazione Sardegna-Pisa
DESCRIPTION:Data Provvisoria
URL:https://circolovelatoscana.it/evento/corso-di-navigazione-sardegna-pisa/
CATEGORIES:Corsi di Navigazione 2024
END:VEVENT
BEGIN:VEVENT
DTSTART;VALUE=DATE:20240323
DTEND;VALUE=DATE:20240325
DTSTAMP:20260424T060326
CREATED:20240303T093043Z
LAST-MODIFIED:20240303T093401Z
UID:1420-1711152000-1711324799@circolovelatoscana.it
SUMMARY:Corso Navigazione
DESCRIPTION:
URL:https://circolovelatoscana.it/evento/corso-navigazione-4/
CATEGORIES:Corsi di Navigazione 2024
END:VEVENT
BEGIN:VEVENT
DTSTART;TZID=UTC:20240308T080000
DTEND;TZID=UTC:20240308T170000
DTSTAMP:20260424T060326
CREATED:20240308T094959Z
LAST-MODIFIED:20240308T094959Z
UID:1443-1709884800-1709917200@circolovelatoscana.it
SUMMARY:Vela e Roccia
DESCRIPTION:corso di navigazione\, dal 15 al 21 settembre. “vela e roccia”
URL:https://circolovelatoscana.it/evento/vela-e-roccia/
CATEGORIES:Corsi di Navigazione 2024
END:VEVENT
BEGIN:VEVENT
DTSTART;VALUE=DATE:20240224
DTEND;VALUE=DATE:20240226
DTSTAMP:20260424T060326
CREATED:20240219T182551Z
LAST-MODIFIED:20240219T190049Z
UID:1277-1708732800-1708905599@circolovelatoscana.it
SUMMARY:Corso di Navigazione
DESCRIPTION:
URL:https://circolovelatoscana.it/evento/corso-di-navigazione/
CATEGORIES:Corsi di Navigazione 2024
END:VEVENT
END:VCALENDAR