BEGIN:VCALENDAR
VERSION:2.0
PRODID:-//Circolo vela Toscana - ECPv6.15.20//NONSGML v1.0//EN
CALSCALE:GREGORIAN
METHOD:PUBLISH
X-WR-CALNAME:Circolo vela Toscana
X-ORIGINAL-URL:https://circolovelatoscana.it
X-WR-CALDESC:Eventi per Circolo vela Toscana
REFRESH-INTERVAL;VALUE=DURATION:PT1H
X-Robots-Tag:noindex
X-PUBLISHED-TTL:PT1H
BEGIN:VTIMEZONE
TZID:UTC
BEGIN:STANDARD
TZOFFSETFROM:+0000
TZOFFSETTO:+0000
TZNAME:UTC
DTSTART:20240101T000000
END:STANDARD
END:VTIMEZONE
BEGIN:VEVENT
DTSTART;TZID=UTC:20251206T100000
DTEND;TZID=UTC:20251208T170000
DTSTAMP:20260423T213210
CREATED:20250129T134323Z
LAST-MODIFIED:20250129T134323Z
UID:1758-1765015200-1765213200@circolovelatoscana.it
SUMMARY:Corso di Navigazione
DESCRIPTION:
URL:https://circolovelatoscana.it/evento/corso-di-navigazione-13/
CATEGORIES:Corsi di Navigazione
END:VEVENT
BEGIN:VEVENT
DTSTART;TZID=UTC:20251108T100000
DTEND;TZID=UTC:20251109T180000
DTSTAMP:20260423T213210
CREATED:20250129T134215Z
LAST-MODIFIED:20250129T134215Z
UID:1756-1762596000-1762711200@circolovelatoscana.it
SUMMARY:Corso di Navigazione
DESCRIPTION:
URL:https://circolovelatoscana.it/evento/corso-di-navigazione-12/
CATEGORIES:Corsi di Navigazione
END:VEVENT
BEGIN:VEVENT
DTSTART;TZID=UTC:20251011T100000
DTEND;TZID=UTC:20251012T180000
DTSTAMP:20260423T213210
CREATED:20250129T133754Z
LAST-MODIFIED:20250129T133754Z
UID:1753-1760176800-1760292000@circolovelatoscana.it
SUMMARY:Corso di Navigazione
DESCRIPTION:
URL:https://circolovelatoscana.it/evento/corso-di-navigazione-11/
CATEGORIES:Corsi di Navigazione
END:VEVENT
BEGIN:VEVENT
DTSTART;TZID=UTC:20250510T100000
DTEND;TZID=UTC:20250511T180000
DTSTAMP:20260423T213210
CREATED:20250129T133541Z
LAST-MODIFIED:20250129T133541Z
UID:1749-1746871200-1746986400@circolovelatoscana.it
SUMMARY:Corso di Navigazione
DESCRIPTION:
URL:https://circolovelatoscana.it/evento/corso-di-navigazione-9/
CATEGORIES:Corsi di Navigazione
END:VEVENT
BEGIN:VEVENT
DTSTART;TZID=UTC:20250418T080000
DTEND;TZID=UTC:20250421T170000
DTSTAMP:20260423T213210
CREATED:20250129T133420Z
LAST-MODIFIED:20250129T133420Z
UID:1747-1744963200-1745254800@circolovelatoscana.it
SUMMARY:Corso di Navigazione
DESCRIPTION:
URL:https://circolovelatoscana.it/evento/corso-di-navigazione-8/
CATEGORIES:Corsi di Navigazione
END:VEVENT
BEGIN:VEVENT
DTSTART;TZID=UTC:20250301T100000
DTEND;TZID=UTC:20250302T170000
DTSTAMP:20260423T213210
CREATED:20250129T132314Z
LAST-MODIFIED:20250129T132314Z
UID:1738-1740823200-1740934800@circolovelatoscana.it
SUMMARY:Corso di Navigazione
DESCRIPTION:
URL:https://circolovelatoscana.it/evento/corso-di-navigazione-7/
CATEGORIES:Corsi di Navigazione
END:VEVENT
BEGIN:VEVENT
DTSTART;TZID=UTC:20250201T100000
DTEND;TZID=UTC:20250202T170000
DTSTAMP:20260423T213210
CREATED:20250129T132154Z
LAST-MODIFIED:20250129T132154Z
UID:1735-1738404000-1738515600@circolovelatoscana.it
SUMMARY:Corso di Navigazione
DESCRIPTION:
URL:https://circolovelatoscana.it/evento/corso-di-navigazione-6/
CATEGORIES:Corsi di Navigazione
END:VEVENT
END:VCALENDAR