BEGIN:VCALENDAR
VERSION:2.0
PRODID:-//Circolo vela Toscana - ECPv6.15.20//NONSGML v1.0//EN
CALSCALE:GREGORIAN
METHOD:PUBLISH
X-WR-CALNAME:Circolo vela Toscana
X-ORIGINAL-URL:https://circolovelatoscana.it
X-WR-CALDESC:Eventi per Circolo vela Toscana
REFRESH-INTERVAL;VALUE=DURATION:PT1H
X-Robots-Tag:noindex
X-PUBLISHED-TTL:PT1H
BEGIN:VTIMEZONE
TZID:UTC
BEGIN:STANDARD
TZOFFSETFROM:+0000
TZOFFSETTO:+0000
TZNAME:UTC
DTSTART:20240101T000000
END:STANDARD
END:VTIMEZONE
BEGIN:VEVENT
DTSTART;TZID=UTC:20251011T103000
DTEND;TZID=UTC:20251012T180000
DTSTAMP:20260424T001329
CREATED:20250129T142007Z
LAST-MODIFIED:20250129T142007Z
UID:1821-1760178600-1760292000@circolovelatoscana.it
SUMMARY:Corso Principianti
DESCRIPTION:
URL:https://circolovelatoscana.it/evento/corso-principianti-46/
CATEGORIES:Corsi Principianti
END:VEVENT
BEGIN:VEVENT
DTSTART;TZID=UTC:20251004T103000
DTEND;TZID=UTC:20251005T180000
DTSTAMP:20260424T001329
CREATED:20250129T141924Z
LAST-MODIFIED:20250129T141924Z
UID:1819-1759573800-1759687200@circolovelatoscana.it
SUMMARY:Corso Principianti
DESCRIPTION:
URL:https://circolovelatoscana.it/evento/corso-principianti-45/
CATEGORIES:Corsi Principianti
END:VEVENT
BEGIN:VEVENT
DTSTART;TZID=UTC:20250927T103000
DTEND;TZID=UTC:20250928T180000
DTSTAMP:20260424T001329
CREATED:20250129T141830Z
LAST-MODIFIED:20250129T141830Z
UID:1817-1758969000-1759082400@circolovelatoscana.it
SUMMARY:Corso Principianti
DESCRIPTION:
URL:https://circolovelatoscana.it/evento/corso-principianti-44/
CATEGORIES:Corsi Principianti
END:VEVENT
BEGIN:VEVENT
DTSTART;TZID=UTC:20250920T103000
DTEND;TZID=UTC:20250921T180000
DTSTAMP:20260424T001329
CREATED:20250129T141740Z
LAST-MODIFIED:20250129T141740Z
UID:1815-1758364200-1758477600@circolovelatoscana.it
SUMMARY:Corso Principianti
DESCRIPTION:
URL:https://circolovelatoscana.it/evento/corso-principianti-43/
CATEGORIES:Corsi Principianti
END:VEVENT
BEGIN:VEVENT
DTSTART;TZID=UTC:20250913T103000
DTEND;TZID=UTC:20250914T180000
DTSTAMP:20260424T001329
CREATED:20250129T141652Z
LAST-MODIFIED:20250129T141652Z
UID:1813-1757759400-1757872800@circolovelatoscana.it
SUMMARY:Corso Principianti
DESCRIPTION:
URL:https://circolovelatoscana.it/evento/corso-principianti-42/
CATEGORIES:Corsi Principianti
END:VEVENT
BEGIN:VEVENT
DTSTART;TZID=UTC:20250906T103000
DTEND;TZID=UTC:20250907T180000
DTSTAMP:20260424T001329
CREATED:20250129T141554Z
LAST-MODIFIED:20250129T141554Z
UID:1811-1757154600-1757268000@circolovelatoscana.it
SUMMARY:Corso Principianti
DESCRIPTION:
URL:https://circolovelatoscana.it/evento/corso-principianti-41/
CATEGORIES:Corsi Principianti
END:VEVENT
BEGIN:VEVENT
DTSTART;TZID=UTC:20250823T103000
DTEND;TZID=UTC:20250824T180000
DTSTAMP:20260424T001329
CREATED:20250129T141358Z
LAST-MODIFIED:20250129T141358Z
UID:1807-1755945000-1756058400@circolovelatoscana.it
SUMMARY:Corso Principianti
DESCRIPTION:
URL:https://circolovelatoscana.it/evento/corso-principianti-40/
CATEGORIES:Corsi Principianti
END:VEVENT
BEGIN:VEVENT
DTSTART;TZID=UTC:20250816T103000
DTEND;TZID=UTC:20250817T180000
DTSTAMP:20260424T001329
CREATED:20250129T141208Z
LAST-MODIFIED:20250129T141208Z
UID:1805-1755340200-1755453600@circolovelatoscana.it
SUMMARY:Corso Principianti
DESCRIPTION:
URL:https://circolovelatoscana.it/evento/corso-principianti-39/
CATEGORIES:Corsi Principianti
END:VEVENT
BEGIN:VEVENT
DTSTART;TZID=UTC:20250809T103000
DTEND;TZID=UTC:20250810T180000
DTSTAMP:20260424T001329
CREATED:20250129T141117Z
LAST-MODIFIED:20250129T141117Z
UID:1803-1754735400-1754848800@circolovelatoscana.it
SUMMARY:Corso Principianti
DESCRIPTION:
URL:https://circolovelatoscana.it/evento/corso-principianti-38/
CATEGORIES:Corsi Principianti
END:VEVENT
BEGIN:VEVENT
DTSTART;TZID=UTC:20250726T103000
DTEND;TZID=UTC:20250727T180000
DTSTAMP:20260424T001329
CREATED:20250129T140920Z
LAST-MODIFIED:20250129T140920Z
UID:1799-1753525800-1753639200@circolovelatoscana.it
SUMMARY:Corso Principianti
DESCRIPTION:
URL:https://circolovelatoscana.it/evento/corso-principianti-37/
CATEGORIES:Corsi Principianti
END:VEVENT
BEGIN:VEVENT
DTSTART;TZID=UTC:20250719T103000
DTEND;TZID=UTC:20250720T180000
DTSTAMP:20260424T001329
CREATED:20250129T140756Z
LAST-MODIFIED:20250129T140756Z
UID:1797-1752921000-1753034400@circolovelatoscana.it
SUMMARY:Corso Principianti
DESCRIPTION:
URL:https://circolovelatoscana.it/evento/corso-principianti-36/
CATEGORIES:Corsi Principianti
END:VEVENT
BEGIN:VEVENT
DTSTART;TZID=UTC:20250712T103000
DTEND;TZID=UTC:20250713T180000
DTSTAMP:20260424T001329
CREATED:20250129T140703Z
LAST-MODIFIED:20250129T140703Z
UID:1795-1752316200-1752429600@circolovelatoscana.it
SUMMARY:Corso Principianti
DESCRIPTION:
URL:https://circolovelatoscana.it/evento/corso-principianti-35/
CATEGORIES:Corsi Principianti
END:VEVENT
BEGIN:VEVENT
DTSTART;TZID=UTC:20250628T103000
DTEND;TZID=UTC:20250629T180000
DTSTAMP:20260424T001329
CREATED:20250129T140235Z
LAST-MODIFIED:20250129T140235Z
UID:1791-1751106600-1751220000@circolovelatoscana.it
SUMMARY:Corso Principianti
DESCRIPTION:
URL:https://circolovelatoscana.it/evento/corso-principianti-34/
CATEGORIES:Corsi Principianti
END:VEVENT
BEGIN:VEVENT
DTSTART;TZID=UTC:20250621T103000
DTEND;TZID=UTC:20250622T180000
DTSTAMP:20260424T001329
CREATED:20250129T140046Z
LAST-MODIFIED:20250405T113950Z
UID:1787-1750501800-1750615200@circolovelatoscana.it
SUMMARY:Corso Avanzato
DESCRIPTION:
URL:https://circolovelatoscana.it/evento/corso-principianti-32/
CATEGORIES:Corsi Principianti
END:VEVENT
BEGIN:VEVENT
DTSTART;TZID=UTC:20250614T103000
DTEND;TZID=UTC:20250615T180000
DTSTAMP:20260424T001329
CREATED:20250129T135941Z
LAST-MODIFIED:20250129T135941Z
UID:1785-1749897000-1750010400@circolovelatoscana.it
SUMMARY:Corso Principianti
DESCRIPTION:
URL:https://circolovelatoscana.it/evento/corso-principianti-31/
CATEGORIES:Corsi Principianti
END:VEVENT
BEGIN:VEVENT
DTSTART;TZID=UTC:20250607T103000
DTEND;TZID=UTC:20250608T180000
DTSTAMP:20260424T001329
CREATED:20250129T135845Z
LAST-MODIFIED:20250129T135845Z
UID:1783-1749292200-1749405600@circolovelatoscana.it
SUMMARY:Corso Principianti
DESCRIPTION:
URL:https://circolovelatoscana.it/evento/corso-principianti-30/
CATEGORIES:Corsi Principianti
END:VEVENT
BEGIN:VEVENT
DTSTART;TZID=UTC:20250524T103000
DTEND;TZID=UTC:20250525T180000
DTSTAMP:20260424T001329
CREATED:20250129T135632Z
LAST-MODIFIED:20250129T135632Z
UID:1779-1748082600-1748196000@circolovelatoscana.it
SUMMARY:Corso Principianti
DESCRIPTION:
URL:https://circolovelatoscana.it/evento/corso-principianti-29/
CATEGORIES:Corsi Principianti
END:VEVENT
BEGIN:VEVENT
DTSTART;TZID=UTC:20250517T103000
DTEND;TZID=UTC:20250518T180000
DTSTAMP:20260424T001329
CREATED:20250129T135412Z
LAST-MODIFIED:20250405T113436Z
UID:1777-1747477800-1747591200@circolovelatoscana.it
SUMMARY:Corso Avanzato
DESCRIPTION:
URL:https://circolovelatoscana.it/evento/corso-principianti-28/
CATEGORIES:Corsi Principianti
END:VEVENT
BEGIN:VEVENT
DTSTART;TZID=UTC:20250510T080000
DTEND;TZID=UTC:20250511T170000
DTSTAMP:20260424T001329
CREATED:20250129T135321Z
LAST-MODIFIED:20250129T135321Z
UID:1775-1746864000-1746982800@circolovelatoscana.it
SUMMARY:Corso Principianti
DESCRIPTION:
URL:https://circolovelatoscana.it/evento/corso-principianti-27/
CATEGORIES:Corsi Principianti
END:VEVENT
BEGIN:VEVENT
DTSTART;TZID=UTC:20250503T103000
DTEND;TZID=UTC:20250504T180000
DTSTAMP:20260424T001329
CREATED:20250129T135229Z
LAST-MODIFIED:20250129T135229Z
UID:1773-1746268200-1746381600@circolovelatoscana.it
SUMMARY:Corso Principianti
DESCRIPTION:
URL:https://circolovelatoscana.it/evento/corso-principianti-26/
CATEGORIES:Corsi Principianti
END:VEVENT
BEGIN:VEVENT
DTSTART;TZID=UTC:20250419T103000
DTEND;TZID=UTC:20250420T180000
DTSTAMP:20260424T001329
CREATED:20250129T135029Z
LAST-MODIFIED:20250129T135029Z
UID:1769-1745058600-1745172000@circolovelatoscana.it
SUMMARY:Corso Principianti
DESCRIPTION:
URL:https://circolovelatoscana.it/evento/corso-principianti-25/
CATEGORIES:Corsi Principianti
END:VEVENT
BEGIN:VEVENT
DTSTART;TZID=UTC:20250412T103000
DTEND;TZID=UTC:20250413T180000
DTSTAMP:20260424T001329
CREATED:20250129T134930Z
LAST-MODIFIED:20250405T112941Z
UID:1767-1744453800-1744567200@circolovelatoscana.it
SUMMARY:Corso Avanzato
DESCRIPTION:
URL:https://circolovelatoscana.it/evento/corso-principianti-24/
CATEGORIES:Corsi Principianti
END:VEVENT
BEGIN:VEVENT
DTSTART;TZID=UTC:20250405T103000
DTEND;TZID=UTC:20250406T180000
DTSTAMP:20260424T001329
CREATED:20250129T134835Z
LAST-MODIFIED:20250129T134835Z
UID:1765-1743849000-1743962400@circolovelatoscana.it
SUMMARY:Corso Principianti
DESCRIPTION:
URL:https://circolovelatoscana.it/evento/corso-principianti-23/
CATEGORIES:Corsi Principianti
END:VEVENT
BEGIN:VEVENT
DTSTART;TZID=UTC:20250329T103000
DTEND;TZID=UTC:20250330T180000
DTSTAMP:20260424T001329
CREATED:20250129T134738Z
LAST-MODIFIED:20250129T134738Z
UID:1763-1743244200-1743357600@circolovelatoscana.it
SUMMARY:Corso Principianti
DESCRIPTION:
URL:https://circolovelatoscana.it/evento/corso-principianti-22/
CATEGORIES:Corsi Principianti
END:VEVENT
END:VCALENDAR