BEGIN:VCALENDAR
VERSION:2.0
PRODID:-//Circolo vela Toscana - ECPv6.15.20//NONSGML v1.0//EN
CALSCALE:GREGORIAN
METHOD:PUBLISH
X-WR-CALNAME:Circolo vela Toscana
X-ORIGINAL-URL:https://circolovelatoscana.it
X-WR-CALDESC:Eventi per Circolo vela Toscana
REFRESH-INTERVAL;VALUE=DURATION:PT1H
X-Robots-Tag:noindex
X-PUBLISHED-TTL:PT1H
BEGIN:VTIMEZONE
TZID:UTC
BEGIN:STANDARD
TZOFFSETFROM:+0000
TZOFFSETTO:+0000
TZNAME:UTC
DTSTART:20230101T000000
END:STANDARD
END:VTIMEZONE
BEGIN:VEVENT
DTSTART;TZID=UTC:20250329T103000
DTEND;TZID=UTC:20250330T180000
DTSTAMP:20260423T225436
CREATED:20250129T134738Z
LAST-MODIFIED:20250129T134738Z
UID:1763-1743244200-1743357600@circolovelatoscana.it
SUMMARY:Corso Principianti
DESCRIPTION:
URL:https://circolovelatoscana.it/evento/corso-principianti-22/
CATEGORIES:Corsi Principianti
END:VEVENT
BEGIN:VEVENT
DTSTART;TZID=UTC:20250322T103000
DTEND;TZID=UTC:20250323T180000
DTSTAMP:20260423T225436
CREATED:20250129T134624Z
LAST-MODIFIED:20250129T134624Z
UID:1760-1742639400-1742752800@circolovelatoscana.it
SUMMARY:Corso Avanzato
DESCRIPTION:
URL:https://circolovelatoscana.it/evento/corso-avanzato/
CATEGORIES:Corsi Avanzati
END:VEVENT
BEGIN:VEVENT
DTSTART;TZID=UTC:20250305T190000
DTEND;TZID=UTC:20250305T210000
DTSTAMP:20260423T225436
CREATED:20250129T133229Z
LAST-MODIFIED:20250129T133229Z
UID:1745-1741201200-1741208400@circolovelatoscana.it
SUMMARY:I saggi e le poesie
DESCRIPTION:
URL:https://circolovelatoscana.it/evento/i-saggi-e-le-poesie/
LOCATION:Orsa Minore libri e mappe\, Via Mercanti 19\, Pisa\, Italy
CATEGORIES:Un mare da leggere
END:VEVENT
BEGIN:VEVENT
DTSTART;TZID=UTC:20250301T100000
DTEND;TZID=UTC:20250302T170000
DTSTAMP:20260423T225436
CREATED:20250129T132314Z
LAST-MODIFIED:20250129T132314Z
UID:1738-1740823200-1740934800@circolovelatoscana.it
SUMMARY:Corso di Navigazione
DESCRIPTION:
URL:https://circolovelatoscana.it/evento/corso-di-navigazione-7/
CATEGORIES:Corsi di Navigazione
END:VEVENT
BEGIN:VEVENT
DTSTART;TZID=UTC:20250218T190000
DTEND;TZID=UTC:20250218T210000
DTSTAMP:20260423T225436
CREATED:20250129T133132Z
LAST-MODIFIED:20250129T133132Z
UID:1743-1739905200-1739912400@circolovelatoscana.it
SUMMARY:I romanzi e i racconti
DESCRIPTION:
URL:https://circolovelatoscana.it/evento/i-romanzi-e-i-racconti/
LOCATION:Orsa Minore libri e mappe\, Via Mercanti 19\, Pisa\, Italy
CATEGORIES:Un mare da leggere
END:VEVENT
BEGIN:VEVENT
DTSTART;TZID=UTC:20250204T190000
DTEND;TZID=UTC:20250204T210000
DTSTAMP:20260423T225436
CREATED:20250129T133007Z
LAST-MODIFIED:20250129T133007Z
UID:1740-1738695600-1738702800@circolovelatoscana.it
SUMMARY:I diari di bordo
DESCRIPTION:
URL:https://circolovelatoscana.it/evento/i-diari-di-bordo/
LOCATION:Orsa Minore libri e mappe\, Via Mercanti 19\, Pisa\, Italy
CATEGORIES:Un mare da leggere
END:VEVENT
BEGIN:VEVENT
DTSTART;TZID=UTC:20250201T100000
DTEND;TZID=UTC:20250202T170000
DTSTAMP:20260423T225436
CREATED:20250129T132154Z
LAST-MODIFIED:20250129T132154Z
UID:1735-1738404000-1738515600@circolovelatoscana.it
SUMMARY:Corso di Navigazione
DESCRIPTION:
URL:https://circolovelatoscana.it/evento/corso-di-navigazione-6/
CATEGORIES:Corsi di Navigazione
END:VEVENT
BEGIN:VEVENT
DTSTART;VALUE=DATE:20241123
DTEND;VALUE=DATE:20241124
DTSTAMP:20260423T225436
CREATED:20240308T113322Z
LAST-MODIFIED:20240308T113322Z
UID:1540-1732320000-1732406399@circolovelatoscana.it
SUMMARY:Assemblea e Festa
DESCRIPTION:assemblea e festa\, 23 novembre
URL:https://circolovelatoscana.it/evento/assemblea-e-festa/
CATEGORIES:Seminari e feste 2024 del circolo della vela Toscana
END:VEVENT
BEGIN:VEVENT
DTSTART;VALUE=DATE:20241105
DTEND;VALUE=DATE:20241106
DTSTAMP:20260423T225436
CREATED:20240308T113215Z
LAST-MODIFIED:20240308T113215Z
UID:1538-1730764800-1730851199@circolovelatoscana.it
SUMMARY:Seminario
DESCRIPTION:seminario da scegliere\, 5 novembre
URL:https://circolovelatoscana.it/evento/seminario-2/
CATEGORIES:Seminari e feste 2024 del circolo della vela Toscana
END:VEVENT
BEGIN:VEVENT
DTSTART;VALUE=DATE:20241103
DTEND;VALUE=DATE:20241104
DTSTAMP:20260423T225436
CREATED:20240308T101858Z
LAST-MODIFIED:20240308T101858Z
UID:1469-1730592000-1730678399@circolovelatoscana.it
SUMMARY:Allenamento
DESCRIPTION:allenamento agonistica\, 3 novembre
URL:https://circolovelatoscana.it/evento/allenamento-7/
CATEGORIES:Calendario attività vela agonistica 2024
END:VEVENT
BEGIN:VEVENT
DTSTART;TZID=UTC:20241102T000000
DTEND;TZID=UTC:20241103T000000
DTSTAMP:20260423T225436
CREATED:20240308T111811Z
LAST-MODIFIED:20240308T111811Z
UID:1523-1730505600-1730592000@circolovelatoscana.it
SUMMARY:Corso Avanzato + Allenamento
DESCRIPTION:corso di vela avanzato e allenamento\, 2 e 3 novembre
URL:https://circolovelatoscana.it/evento/corso-avanzato-allenamento-6/
CATEGORIES:Calendario corsi di vela 2024
END:VEVENT
BEGIN:VEVENT
DTSTART;TZID=UTC:20241026T000000
DTEND;TZID=UTC:20241027T000000
DTSTAMP:20260423T225436
CREATED:20240308T111713Z
LAST-MODIFIED:20240308T111713Z
UID:1521-1729900800-1729987200@circolovelatoscana.it
SUMMARY:Corso Principianti
DESCRIPTION:corso di vela per principianti\, 26 e 27 ottobre
URL:https://circolovelatoscana.it/evento/corso-principianti-21/
CATEGORIES:Calendario corsi di vela 2024
END:VEVENT
BEGIN:VEVENT
DTSTART;TZID=UTC:20241019T000000
DTEND;TZID=UTC:20241020T000000
DTSTAMP:20260423T225436
CREATED:20240308T111526Z
LAST-MODIFIED:20240308T111526Z
UID:1519-1729296000-1729382400@circolovelatoscana.it
SUMMARY:Corso Principianti
DESCRIPTION:corso di vela per principianti\, 19 e 20 ottobre
URL:https://circolovelatoscana.it/evento/corso-principianti-20/
CATEGORIES:Calendario corsi di vela 2024
END:VEVENT
BEGIN:VEVENT
DTSTART;TZID=UTC:20241012T000000
DTEND;TZID=UTC:20241013T000000
DTSTAMP:20260423T225436
CREATED:20240308T111403Z
LAST-MODIFIED:20240308T111403Z
UID:1517-1728691200-1728777600@circolovelatoscana.it
SUMMARY:Corso Principianti
DESCRIPTION:corso di vela per principianti\, 12 e 13 ottobre
URL:https://circolovelatoscana.it/evento/corso-principianti-19/
CATEGORIES:Calendario corsi di vela 2024
END:VEVENT
BEGIN:VEVENT
DTSTART;VALUE=DATE:20241006
DTEND;VALUE=DATE:20241007
DTSTAMP:20260423T225436
CREATED:20240308T101726Z
LAST-MODIFIED:20240308T101726Z
UID:1467-1728172800-1728259199@circolovelatoscana.it
SUMMARY:Allenamento
DESCRIPTION:allenamento agonistica\, 6 ottobre
URL:https://circolovelatoscana.it/evento/allenamento-6/
CATEGORIES:Calendario attività vela agonistica 2024
END:VEVENT
BEGIN:VEVENT
DTSTART;TZID=UTC:20241005T000000
DTEND;TZID=UTC:20241006T000000
DTSTAMP:20260423T225436
CREATED:20240308T111241Z
LAST-MODIFIED:20240308T111241Z
UID:1515-1728086400-1728172800@circolovelatoscana.it
SUMMARY:Corso Avanzato + Allenamento
DESCRIPTION:corso di vela avanzato e allenamento\, 5 e 6 ottobre
URL:https://circolovelatoscana.it/evento/corso-avanzato-allenamento-5/
CATEGORIES:Calendario corsi di vela 2024
END:VEVENT
BEGIN:VEVENT
DTSTART;TZID=UTC:20240928T000000
DTEND;TZID=UTC:20240928T000000
DTSTAMP:20260423T225436
CREATED:20240308T101606Z
LAST-MODIFIED:20240308T101606Z
UID:1465-1727481600-1727481600@circolovelatoscana.it
SUMMARY:CVT Contest
DESCRIPTION:attività agonistica 28 e 29 settembre
URL:https://circolovelatoscana.it/evento/cvt-contest-4/
CATEGORIES:Calendario attività vela agonistica 2024
END:VEVENT
BEGIN:VEVENT
DTSTART;TZID=UTC:20240921T000000
DTEND;TZID=UTC:20240922T000000
DTSTAMP:20260423T225436
CREATED:20240308T111011Z
LAST-MODIFIED:20240308T111055Z
UID:1513-1726876800-1726963200@circolovelatoscana.it
SUMMARY:Corso Principianti
DESCRIPTION:corso di vela per principianti\, 21 e 22 settembre
URL:https://circolovelatoscana.it/evento/corso-principianti-18/
CATEGORIES:Calendario corsi di vela 2024
END:VEVENT
BEGIN:VEVENT
DTSTART;TZID=UTC:20240914T000000
DTEND;TZID=UTC:20240915T000000
DTSTAMP:20260423T225436
CREATED:20240308T110804Z
LAST-MODIFIED:20240308T110804Z
UID:1511-1726272000-1726358400@circolovelatoscana.it
SUMMARY:Corso Principianti
DESCRIPTION:corso di vela per principianti\, 14 e 15 settembre
URL:https://circolovelatoscana.it/evento/corso-principianti-17/
CATEGORIES:Calendario corsi di vela 2024
END:VEVENT
BEGIN:VEVENT
DTSTART;TZID=UTC:20240907T000000
DTEND;TZID=UTC:20240908T000000
DTSTAMP:20260423T225436
CREATED:20240308T110622Z
LAST-MODIFIED:20240308T110622Z
UID:1509-1725667200-1725753600@circolovelatoscana.it
SUMMARY:Corso Principianti
DESCRIPTION:corso di vela per principianti\, 7 e 8 settembre
URL:https://circolovelatoscana.it/evento/corso-principianti-16/
CATEGORIES:Calendario corsi di vela 2024
END:VEVENT
BEGIN:VEVENT
DTSTART;VALUE=DATE:20240907
DTEND;VALUE=DATE:20240908
DTSTAMP:20260423T225436
CREATED:20240308T113051Z
LAST-MODIFIED:20240308T113051Z
UID:1536-1725667200-1725753599@circolovelatoscana.it
SUMMARY:Festa
DESCRIPTION:festa\, 7 settembre
URL:https://circolovelatoscana.it/evento/festa-2/
CATEGORIES:Seminari e feste 2024 del circolo della vela Toscana
END:VEVENT
BEGIN:VEVENT
DTSTART;VALUE=DATE:20240907
DTEND;VALUE=DATE:20240908
DTSTAMP:20260423T225436
CREATED:20240308T094847Z
LAST-MODIFIED:20240308T094847Z
UID:1441-1725667200-1725753599@circolovelatoscana.it
SUMMARY:Corso di Navigazione
DESCRIPTION:corso di navigazione\, 7 e 8 settembre
URL:https://circolovelatoscana.it/evento/corso-di-navigazione-5/
CATEGORIES:Corsi di Navigazione 2024
END:VEVENT
BEGIN:VEVENT
DTSTART;VALUE=DATE:20240903
DTEND;VALUE=DATE:20240904
DTSTAMP:20260423T225436
CREATED:20240308T112913Z
LAST-MODIFIED:20240308T112913Z
UID:1534-1725321600-1725407999@circolovelatoscana.it
SUMMARY:Seminario
DESCRIPTION:seminario da scegliere\, 3 settembre
URL:https://circolovelatoscana.it/evento/seminario/
CATEGORIES:Seminari e feste 2024 del circolo della vela Toscana
END:VEVENT
BEGIN:VEVENT
DTSTART;TZID=UTC:20240831T000000
DTEND;TZID=UTC:20240901T000000
DTSTAMP:20260423T225436
CREATED:20240308T101106Z
LAST-MODIFIED:20240308T101106Z
UID:1463-1725062400-1725148800@circolovelatoscana.it
SUMMARY:Regata Sociale
DESCRIPTION:attività agonistica\, 31 agosto e 1 settembre
URL:https://circolovelatoscana.it/evento/regata-sociale/
CATEGORIES:Calendario attività vela agonistica 2024
END:VEVENT
BEGIN:VEVENT
DTSTART;TZID=UTC:20240824T000000
DTEND;TZID=UTC:20240825T000000
DTSTAMP:20260423T225436
CREATED:20240308T110338Z
LAST-MODIFIED:20240308T110437Z
UID:1507-1724457600-1724544000@circolovelatoscana.it
SUMMARY:Corso Principianti
DESCRIPTION:corso di vela per principianti\, 24 e 25 agosto
URL:https://circolovelatoscana.it/evento/corso-principianti-15/
CATEGORIES:Calendario corsi di vela 2024
END:VEVENT
BEGIN:VEVENT
DTSTART;TZID=UTC:20240817T000000
DTEND;TZID=UTC:20240818T000000
DTSTAMP:20260423T225436
CREATED:20240308T110235Z
LAST-MODIFIED:20240308T110235Z
UID:1505-1723852800-1723939200@circolovelatoscana.it
SUMMARY:Corso Principianti
DESCRIPTION:corso di vela per principianti\, 17 e 18 agosto
URL:https://circolovelatoscana.it/evento/corso-principianti-14/
CATEGORIES:Calendario corsi di vela 2024
END:VEVENT
BEGIN:VEVENT
DTSTART;TZID=UTC:20240810T000000
DTEND;TZID=UTC:20240811T000000
DTSTAMP:20260423T225436
CREATED:20240308T110055Z
LAST-MODIFIED:20240308T110055Z
UID:1503-1723248000-1723334400@circolovelatoscana.it
SUMMARY:Corso Principianti
DESCRIPTION:corso di vela per principianti\, 10 e 11 agosto
URL:https://circolovelatoscana.it/evento/corso-principianti-13/
CATEGORIES:Calendario corsi di vela 2024
END:VEVENT
BEGIN:VEVENT
DTSTART;VALUE=DATE:20240804
DTEND;VALUE=DATE:20240805
DTSTAMP:20260423T225436
CREATED:20240308T100957Z
LAST-MODIFIED:20240308T100957Z
UID:1461-1722729600-1722815999@circolovelatoscana.it
SUMMARY:Allenamento
DESCRIPTION:allenamento agonistica\, 4 agosto
URL:https://circolovelatoscana.it/evento/allenamento-5/
CATEGORIES:Calendario attività vela agonistica 2024
END:VEVENT
BEGIN:VEVENT
DTSTART;TZID=UTC:20240803T000000
DTEND;TZID=UTC:20240804T000000
DTSTAMP:20260423T225436
CREATED:20240308T105904Z
LAST-MODIFIED:20240308T105904Z
UID:1501-1722643200-1722729600@circolovelatoscana.it
SUMMARY:Corso Avanzato + Allenamento
DESCRIPTION:corso di vela avanzato e allenamento\, 3 e 4 agosto
URL:https://circolovelatoscana.it/evento/corso-avanzato-allenamento-4/
CATEGORIES:Calendario corsi di vela 2024
END:VEVENT
BEGIN:VEVENT
DTSTART;TZID=UTC:20240727T000000
DTEND;TZID=UTC:20240728T000000
DTSTAMP:20260423T225436
CREATED:20240308T105715Z
LAST-MODIFIED:20240308T105715Z
UID:1499-1722038400-1722124800@circolovelatoscana.it
SUMMARY:Corso Principianti
DESCRIPTION:corso di vela per principianti\, 27 e 28 luglio
URL:https://circolovelatoscana.it/evento/corso-principianti-12/
CATEGORIES:Calendario corsi di vela 2024
END:VEVENT
END:VCALENDAR