BEGIN:VCALENDAR
VERSION:2.0
PRODID:-//Circolo vela Toscana - ECPv6.15.20//NONSGML v1.0//EN
CALSCALE:GREGORIAN
METHOD:PUBLISH
X-WR-CALNAME:Circolo vela Toscana
X-ORIGINAL-URL:https://circolovelatoscana.it
X-WR-CALDESC:Eventi per Circolo vela Toscana
REFRESH-INTERVAL;VALUE=DURATION:PT1H
X-Robots-Tag:noindex
X-PUBLISHED-TTL:PT1H
BEGIN:VTIMEZONE
TZID:UTC
BEGIN:STANDARD
TZOFFSETFROM:+0000
TZOFFSETTO:+0000
TZNAME:UTC
DTSTART:20230101T000000
END:STANDARD
END:VTIMEZONE
BEGIN:VEVENT
DTSTART;TZID=UTC:20240824T000000
DTEND;TZID=UTC:20240825T000000
DTSTAMP:20260424T015858
CREATED:20240308T110338Z
LAST-MODIFIED:20240308T110437Z
UID:1507-1724457600-1724544000@circolovelatoscana.it
SUMMARY:Corso Principianti
DESCRIPTION:corso di vela per principianti\, 24 e 25 agosto
URL:https://circolovelatoscana.it/evento/corso-principianti-15/
CATEGORIES:Calendario corsi di vela 2024
END:VEVENT
BEGIN:VEVENT
DTSTART;TZID=UTC:20240817T000000
DTEND;TZID=UTC:20240818T000000
DTSTAMP:20260424T015858
CREATED:20240308T110235Z
LAST-MODIFIED:20240308T110235Z
UID:1505-1723852800-1723939200@circolovelatoscana.it
SUMMARY:Corso Principianti
DESCRIPTION:corso di vela per principianti\, 17 e 18 agosto
URL:https://circolovelatoscana.it/evento/corso-principianti-14/
CATEGORIES:Calendario corsi di vela 2024
END:VEVENT
BEGIN:VEVENT
DTSTART;TZID=UTC:20240810T000000
DTEND;TZID=UTC:20240811T000000
DTSTAMP:20260424T015858
CREATED:20240308T110055Z
LAST-MODIFIED:20240308T110055Z
UID:1503-1723248000-1723334400@circolovelatoscana.it
SUMMARY:Corso Principianti
DESCRIPTION:corso di vela per principianti\, 10 e 11 agosto
URL:https://circolovelatoscana.it/evento/corso-principianti-13/
CATEGORIES:Calendario corsi di vela 2024
END:VEVENT
BEGIN:VEVENT
DTSTART;VALUE=DATE:20240804
DTEND;VALUE=DATE:20240805
DTSTAMP:20260424T015858
CREATED:20240308T100957Z
LAST-MODIFIED:20240308T100957Z
UID:1461-1722729600-1722815999@circolovelatoscana.it
SUMMARY:Allenamento
DESCRIPTION:allenamento agonistica\, 4 agosto
URL:https://circolovelatoscana.it/evento/allenamento-5/
CATEGORIES:Calendario attività vela agonistica 2024
END:VEVENT
BEGIN:VEVENT
DTSTART;TZID=UTC:20240803T000000
DTEND;TZID=UTC:20240804T000000
DTSTAMP:20260424T015858
CREATED:20240308T105904Z
LAST-MODIFIED:20240308T105904Z
UID:1501-1722643200-1722729600@circolovelatoscana.it
SUMMARY:Corso Avanzato + Allenamento
DESCRIPTION:corso di vela avanzato e allenamento\, 3 e 4 agosto
URL:https://circolovelatoscana.it/evento/corso-avanzato-allenamento-4/
CATEGORIES:Calendario corsi di vela 2024
END:VEVENT
BEGIN:VEVENT
DTSTART;TZID=UTC:20240727T000000
DTEND;TZID=UTC:20240728T000000
DTSTAMP:20260424T015858
CREATED:20240308T105715Z
LAST-MODIFIED:20240308T105715Z
UID:1499-1722038400-1722124800@circolovelatoscana.it
SUMMARY:Corso Principianti
DESCRIPTION:corso di vela per principianti\, 27 e 28 luglio
URL:https://circolovelatoscana.it/evento/corso-principianti-12/
CATEGORIES:Calendario corsi di vela 2024
END:VEVENT
BEGIN:VEVENT
DTSTART;TZID=UTC:20240720T000000
DTEND;TZID=UTC:20240721T000000
DTSTAMP:20260424T015858
CREATED:20240308T105504Z
LAST-MODIFIED:20240308T105504Z
UID:1497-1721433600-1721520000@circolovelatoscana.it
SUMMARY:Corso Principianti
DESCRIPTION:corso di vela per principianti\, 20 e 21 luglio
URL:https://circolovelatoscana.it/evento/corso-principianti-11/
CATEGORIES:Calendario corsi di vela 2024
END:VEVENT
BEGIN:VEVENT
DTSTART;VALUE=DATE:20240720
DTEND;VALUE=DATE:20240721
DTSTAMP:20260424T015858
CREATED:20240308T094412Z
LAST-MODIFIED:20240308T094412Z
UID:1439-1721433600-1721519999@circolovelatoscana.it
SUMMARY:Corso di Navigazione
DESCRIPTION:corso di navigazione\, 20 e 21 luglio
URL:https://circolovelatoscana.it/evento/corso-di-navigazione-4/
CATEGORIES:Corsi di Navigazione 2024
END:VEVENT
BEGIN:VEVENT
DTSTART;TZID=UTC:20240713T000000
DTEND;TZID=UTC:20240714T000000
DTSTAMP:20260424T015858
CREATED:20240308T105300Z
LAST-MODIFIED:20240308T105300Z
UID:1495-1720828800-1720915200@circolovelatoscana.it
SUMMARY:Corso Principianti
DESCRIPTION:corso di vela per principianti\, 13 e 14 luglio
URL:https://circolovelatoscana.it/evento/corso-principianti-10/
CATEGORIES:Calendario corsi di vela 2024
END:VEVENT
BEGIN:VEVENT
DTSTART;TZID=UTC:20240713T000000
DTEND;TZID=UTC:20240714T000000
DTSTAMP:20260424T015858
CREATED:20240308T100843Z
LAST-MODIFIED:20240308T100843Z
UID:1459-1720828800-1720915200@circolovelatoscana.it
SUMMARY:Match Race
DESCRIPTION:attività agonistica\, 13 e 14 luglio
URL:https://circolovelatoscana.it/evento/match-race/
CATEGORIES:Calendario attività vela agonistica 2024
END:VEVENT
BEGIN:VEVENT
DTSTART;VALUE=DATE:20240707
DTEND;VALUE=DATE:20240708
DTSTAMP:20260424T015858
CREATED:20240308T100454Z
LAST-MODIFIED:20240308T100454Z
UID:1457-1720310400-1720396799@circolovelatoscana.it
SUMMARY:Allenamento
DESCRIPTION:allenamento agonistica\, 7 luglio
URL:https://circolovelatoscana.it/evento/allenamento-4/
CATEGORIES:Calendario attività vela agonistica 2024
END:VEVENT
BEGIN:VEVENT
DTSTART;TZID=UTC:20240706T000000
DTEND;TZID=UTC:20240707T000000
DTSTAMP:20260424T015858
CREATED:20240308T105139Z
LAST-MODIFIED:20240308T105139Z
UID:1493-1720224000-1720310400@circolovelatoscana.it
SUMMARY:Corso Avanzato + Allenamento
DESCRIPTION:corso avanzato di vela e allenamento\, 6 e 7 luglio
URL:https://circolovelatoscana.it/evento/corso-avanzato-allenamento-3/
CATEGORIES:Calendario corsi di vela 2024
END:VEVENT
BEGIN:VEVENT
DTSTART;TZID=UTC:20240629T000000
DTEND;TZID=UTC:20240630T000000
DTSTAMP:20260424T015858
CREATED:20240308T104906Z
LAST-MODIFIED:20240308T104906Z
UID:1491-1719619200-1719705600@circolovelatoscana.it
SUMMARY:Corso Principianti
DESCRIPTION:corso di vela per principianti\, 29 e 30 giugno
URL:https://circolovelatoscana.it/evento/corso-principianti-9/
CATEGORIES:Calendario corsi di vela 2024
END:VEVENT
BEGIN:VEVENT
DTSTART;TZID=UTC:20240622T080000
DTEND;TZID=UTC:20240622T170000
DTSTAMP:20260424T015858
CREATED:20240308T094235Z
LAST-MODIFIED:20240308T094235Z
UID:1437-1719043200-1719075600@circolovelatoscana.it
SUMMARY:Corso di Navigazione
DESCRIPTION:corso di navigazione\, 22 e 23 giugno
URL:https://circolovelatoscana.it/evento/corso-di-navigazione-3/
CATEGORIES:Corsi di Navigazione 2024
END:VEVENT
BEGIN:VEVENT
DTSTART;TZID=UTC:20240622T000000
DTEND;TZID=UTC:20240623T000000
DTSTAMP:20260424T015858
CREATED:20240308T104735Z
LAST-MODIFIED:20240308T104735Z
UID:1489-1719014400-1719100800@circolovelatoscana.it
SUMMARY:Corso Principianti
DESCRIPTION:corso di vela per principianti\, 22 e 23 giugno
URL:https://circolovelatoscana.it/evento/corso-principianti-8/
CATEGORIES:Calendario corsi di vela 2024
END:VEVENT
BEGIN:VEVENT
DTSTART;TZID=UTC:20240615T000000
DTEND;TZID=UTC:20240616T000000
DTSTAMP:20260424T015858
CREATED:20240308T104307Z
LAST-MODIFIED:20240308T104307Z
UID:1487-1718409600-1718496000@circolovelatoscana.it
SUMMARY:Corso Principianti
DESCRIPTION:corso di vela per principianti\, 15 e 16 giugno
URL:https://circolovelatoscana.it/evento/corso-principianti-7/
CATEGORIES:Calendario corsi di vela 2024
END:VEVENT
BEGIN:VEVENT
DTSTART;TZID=UTC:20240615T000000
DTEND;TZID=UTC:20240616T000000
DTSTAMP:20260424T015858
CREATED:20240308T100129Z
LAST-MODIFIED:20240308T100350Z
UID:1455-1718409600-1718496000@circolovelatoscana.it
SUMMARY:Regata
DESCRIPTION:attività agonistica\, 15 e 16 giugno
URL:https://circolovelatoscana.it/evento/regata/
CATEGORIES:Calendario attività vela agonistica 2024
END:VEVENT
BEGIN:VEVENT
DTSTART;VALUE=DATE:20240615
DTEND;VALUE=DATE:20240616
DTSTAMP:20260424T015858
CREATED:20240308T112520Z
LAST-MODIFIED:20240308T112520Z
UID:1530-1718409600-1718495999@circolovelatoscana.it
SUMMARY:Festa
DESCRIPTION:festa\, 15 giugno
URL:https://circolovelatoscana.it/evento/festa/
CATEGORIES:Seminari e feste 2024 del circolo della vela Toscana
END:VEVENT
BEGIN:VEVENT
DTSTART;VALUE=DATE:20240609
DTEND;VALUE=DATE:20240610
DTSTAMP:20260424T015858
CREATED:20240308T100022Z
LAST-MODIFIED:20240308T100022Z
UID:1453-1717891200-1717977599@circolovelatoscana.it
SUMMARY:Allenamento
DESCRIPTION:allenamento agonistica\, 9 giugno
URL:https://circolovelatoscana.it/evento/allenamento-3/
CATEGORIES:Calendario attività vela agonistica 2024
END:VEVENT
BEGIN:VEVENT
DTSTART;TZID=UTC:20240608T000000
DTEND;TZID=UTC:20240609T000000
DTSTAMP:20260424T015858
CREATED:20240308T103909Z
LAST-MODIFIED:20240308T103909Z
UID:1485-1717804800-1717891200@circolovelatoscana.it
SUMMARY:Corso Avanzato + Allenamento
DESCRIPTION:corso di vela avanzato e allenamento\, 8 e 9 giugno
URL:https://circolovelatoscana.it/evento/corso-avanzato-allenamento-2/
CATEGORIES:Calendario corsi di vela 2024
END:VEVENT
BEGIN:VEVENT
DTSTART;VALUE=DATE:20240602
DTEND;VALUE=DATE:20240603
DTSTAMP:20260424T015858
CREATED:20240308T112800Z
LAST-MODIFIED:20240308T112800Z
UID:1532-1717286400-1717372799@circolovelatoscana.it
SUMMARY:Agostino Straulino
DESCRIPTION:seminario Agostino Straulino\, 2 luglio
URL:https://circolovelatoscana.it/evento/agostino-straulino/
CATEGORIES:Seminari e feste 2024 del circolo della vela Toscana
END:VEVENT
BEGIN:VEVENT
DTSTART;TZID=UTC:20240601T000000
DTEND;TZID=UTC:20240602T000000
DTSTAMP:20260424T015858
CREATED:20240308T103725Z
LAST-MODIFIED:20240308T103725Z
UID:1483-1717200000-1717286400@circolovelatoscana.it
SUMMARY:Corso Principianti
DESCRIPTION:corso di vela per principianti\, 1 e 2 giugno
URL:https://circolovelatoscana.it/evento/corso-principianti-6/
CATEGORIES:Calendario corsi di vela 2024
END:VEVENT
BEGIN:VEVENT
DTSTART;TZID=UTC:20240530T000000
DTEND;TZID=UTC:20240530T000000
DTSTAMP:20260424T015858
CREATED:20240308T093819Z
LAST-MODIFIED:20240308T094051Z
UID:1435-1717027200-1717027200@circolovelatoscana.it
SUMMARY:Corso di Navigazione
DESCRIPTION:Corso di navigazione 151 Miglia\, dal 30 maggio al 1 giugno
URL:https://circolovelatoscana.it/evento/corso-di-navigazione-2/
CATEGORIES:Corsi di Navigazione 2024
END:VEVENT
BEGIN:VEVENT
DTSTART;TZID=UTC:20240525T000000
DTEND;TZID=UTC:20240526T000000
DTSTAMP:20260424T015858
CREATED:20240308T103609Z
LAST-MODIFIED:20240308T103609Z
UID:1481-1716595200-1716681600@circolovelatoscana.it
SUMMARY:Corso Principianti
DESCRIPTION:corso di vela per principianti\, 25 e 26 maggio
URL:https://circolovelatoscana.it/evento/corso-principianti-5/
CATEGORIES:Calendario corsi di vela 2024
END:VEVENT
BEGIN:VEVENT
DTSTART;TZID=UTC:20240520T080000
DTEND;TZID=UTC:20240521T170000
DTSTAMP:20260424T015858
CREATED:20240227T214922Z
LAST-MODIFIED:20240227T214922Z
UID:1350-1716192000-1716310800@circolovelatoscana.it
SUMMARY:Corso navigazione
DESCRIPTION:
URL:https://circolovelatoscana.it/evento/corso-navigazione-3/
LOCATION:100 Montecristo
END:VEVENT
BEGIN:VEVENT
DTSTART;TZID=UTC:20240518T000000
DTEND;TZID=UTC:20240519T000000
DTSTAMP:20260424T015858
CREATED:20240308T103000Z
LAST-MODIFIED:20240308T103000Z
UID:1479-1715990400-1716076800@circolovelatoscana.it
SUMMARY:Corso Principianti
DESCRIPTION:corso di vela per principianti\, 18 e 19 maggio
URL:https://circolovelatoscana.it/evento/corso-principianti-4/
CATEGORIES:Calendario corsi di vela 2024
END:VEVENT
BEGIN:VEVENT
DTSTART;TZID=UTC:20240518T000000
DTEND;TZID=UTC:20240519T000000
DTSTAMP:20260424T015858
CREATED:20240227T214739Z
LAST-MODIFIED:20240227T214739Z
UID:1348-1715990400-1716076800@circolovelatoscana.it
SUMMARY:Corso navigazione
DESCRIPTION:
URL:https://circolovelatoscana.it/evento/corso-navigazione-2/
CATEGORIES:Corsi di Navigazione 2024
END:VEVENT
BEGIN:VEVENT
DTSTART;VALUE=DATE:20240512
DTEND;VALUE=DATE:20240513
DTSTAMP:20260424T015858
CREATED:20240308T095911Z
LAST-MODIFIED:20240308T095911Z
UID:1451-1715472000-1715558399@circolovelatoscana.it
SUMMARY:Allenamento
DESCRIPTION:allenamento agonistica\, 12 maggio
URL:https://circolovelatoscana.it/evento/allenamento-2/
CATEGORIES:Calendario attività vela agonistica 2024
END:VEVENT
BEGIN:VEVENT
DTSTART;TZID=UTC:20240511T000000
DTEND;TZID=UTC:20240512T000000
DTSTAMP:20260424T015858
CREATED:20240308T102858Z
LAST-MODIFIED:20240308T102858Z
UID:1477-1715385600-1715472000@circolovelatoscana.it
SUMMARY:Corso Avanzato + Allenamento
DESCRIPTION:corso avanzato di vela e allenamento\, 11 e 12 maggio
URL:https://circolovelatoscana.it/evento/corso-avanzato-allenamento/
CATEGORIES:Calendario corsi di vela 2024
END:VEVENT
BEGIN:VEVENT
DTSTART;VALUE=DATE:20240507
DTEND;VALUE=DATE:20240508
DTSTAMP:20260424T015858
CREATED:20240308T112417Z
LAST-MODIFIED:20240308T112417Z
UID:1527-1715040000-1715126399@circolovelatoscana.it
SUMMARY:Storia della Coppa America
DESCRIPTION:seminario sulla storia della coppa America\, 7 maggio
URL:https://circolovelatoscana.it/evento/storia-della-coppa-america/
CATEGORIES:Seminari e feste 2024 del circolo della vela Toscana
END:VEVENT
END:VCALENDAR